View In:
ArcGIS JavaScript
ArcGIS Online Map Viewer
ArcGIS Earth
ArcMap
View Footprint In:
ArcGIS Online Map Viewer
Service Description: OGIS/TreeCanopy
Name: OGIS/TreeCanopy
Description:
Single Fused Map Cache: false
Extent:
XMin: 998798.7334857681
YMin: 888382.4689457029
XMax: 1194304.8862857707
YMax: 1129058.676145704
Spatial Reference: 102717
(2262)
Initial Extent:
XMin: 998798.7334857681
YMin: 888382.4689457029
XMax: 1194304.8862857707
YMax: 1129058.676145704
Spatial Reference: 102717
(2262)
Full Extent:
XMin: 998798.7334857681
YMin: 888382.4689457029
XMax: 1194304.8862857707
YMax: 1129058.676145704
Spatial Reference: 102717
(2262)
Pixel Size X: 3.2808000000000437
Pixel Size Y: 3.2808000000000153
Band Count: 1
Pixel Type: F32
RasterFunction Infos: {"rasterFunctionInfos": [{
"name": "None",
"description": "",
"help": ""
}]}
Mensuration Capabilities: Basic
Has Histograms: true
Has Colormap: false
Has Multi Dimensions : false
Rendering Rule:
Min Scale: 0
Max Scale: 0
Copyright Text:
Service Data Type: esriImageServiceDataTypeGeneric
Min Values: 0
Max Values: 150
Mean Values: 56.27838847761067
Standard Deviation Values: 25.458139595264402
Object ID Field:
Fields:
None
Default Mosaic Method: Center
Allowed Mosaic Methods:
SortField:
SortValue: null
Mosaic Operator: First
Default Compression Quality: 75
Default Resampling Method: Bilinear
Max Record Count: null
Max Image Height: 4100
Max Image Width: 15000
Max Download Image Count: null
Max Mosaic Image Count: null
Allow Raster Function: true
Allow Copy: true
Allow Analysis: true
Allow Compute TiePoints: false
Supports Statistics: false
Supports Advanced Queries: false
Use StandardizedQueries: true
Raster Type Infos:
Name: Raster Dataset
Description: Supports all ArcGIS Raster Datasets
Help:
Has Raster Attribute Table: false
Edit Fields Info: null
Ownership Based AccessControl For Rasters: null
Child Resources:
Info
Histograms
Statistics
Key Properties
Legend
Raster Function Infos
Supported Operations:
Export Image
Identify
Measure
Compute Histograms
Compute Statistics Histograms
Get Samples
Compute Class Statistics
Query Boundary
Compute Pixel Location
Compute Angles
Validate
Project