{
 "currentVersion": 10.91,
 "serviceDescription": "OGIS/TreeCanopy",
 "name": "OGIS/TreeCanopy",
 "description": "",
 "extent": {
  "xmin": 998798.7334857681,
  "ymin": 888382.4689457029,
  "xmax": 1194304.8862857707,
  "ymax": 1129058.676145704,
  "spatialReference": {
   "wkid": 102717,
   "latestWkid": 2262
  }
 },
 "initialExtent": {
  "xmin": 998798.7334857681,
  "ymin": 888382.4689457029,
  "xmax": 1194304.8862857707,
  "ymax": 1129058.676145704,
  "spatialReference": {
   "wkid": 102717,
   "latestWkid": 2262
  }
 },
 "fullExtent": {
  "xmin": 998798.7334857681,
  "ymin": 888382.4689457029,
  "xmax": 1194304.8862857707,
  "ymax": 1129058.676145704,
  "spatialReference": {
   "wkid": 102717,
   "latestWkid": 2262
  }
 },
 "hasMultidimensions": false,
 "pixelSizeX": 3.2808000000000437,
 "pixelSizeY": 3.2808000000000153,
 "datasetFormat": "SDR",
 "uncompressedSize": 17486144676,
 "blockWidth": 128,
 "blockHeight": 128,
 "compressionType": "NONE",
 "bandNames": [
  "Band_1"
 ],
 "allowCopy": true,
 "allowAnalysis": true,
 "bandCount": 1,
 "pixelType": "F32",
 "minPixelSize": 0,
 "maxPixelSize": 0,
 "copyrightText": "",
 "serviceDataType": "esriImageServiceDataTypeGeneric",
 "serviceSourceType": "esriImageServiceSourceTypeDataset",
 "minValues": [
  0
 ],
 "maxValues": [
  150
 ],
 "meanValues": [
  56.27838847761067
 ],
 "stdvValues": [
  25.458139595264402
 ],
 "objectIdField": "",
 "fields": [],
 "capabilities": "Mensuration,Image,Metadata",
 "defaultMosaicMethod": "Center",
 "allowedMosaicMethods": "",
 "sortField": "",
 "sortValue": null,
 "sortAscending": true,
 "mosaicOperator": "First",
 "defaultCompressionQuality": 75,
 "defaultResamplingMethod": "Bilinear",
 "maxImageHeight": 4100,
 "maxImageWidth": 15000,
 "allowRasterFunction": true,
 "rasterFunctionInfos": [
  {
   "name": "None",
   "description": "",
   "help": ""
  }
 ],
 "rasterTypeInfos": [
  {
   "name": "Raster Dataset",
   "description": "Supports all ArcGIS Raster Datasets",
   "help": ""
  }
 ],
 "mensurationCapabilities": "Basic",
 "hasHistograms": true,
 "hasColormap": false,
 "hasRasterAttributeTable": false,
 "minScale": 0,
 "maxScale": 0,
 "exportTilesAllowed": false,
 "supportsStatistics": false,
 "supportsAdvancedQueries": false,
 "editFieldsInfo": null,
 "ownershipBasedAccessControlForRasters": null,
 "allowComputeTiePoints": false,
 "useStandardizedQueries": true,
 "advancedQueryCapabilities": {
  "useStandardizedQueries": true,
  "supportsStatistics": false,
  "supportsOrderBy": false,
  "supportsDistinct": false,
  "supportsPagination": false
 },
 "spatialReference": {
  "wkid": 102717,
  "latestWkid": 2262
 }
}
