View In:
ArcGIS JavaScript
ArcGIS Online Map Viewer
ArcGIS Earth
ArcMap
View Footprint In:
ArcGIS Online Map Viewer
Service Description: OGIS/LandCoverClassification
Name: OGIS/LandCoverClassification
Description:
Single Fused Map Cache: false
Extent:
XMin: 998801.9349614757
YMin: 888383.0466019775
XMax: 1194303.934961481
YMax: 1129057.0466019814
Spatial Reference: 102717
(2262)
Initial Extent:
XMin: 998801.9349614757
YMin: 888383.0466019775
XMax: 1194303.934961481
YMax: 1129057.0466019814
Spatial Reference: 102717
(2262)
Full Extent:
XMin: 998801.9349614757
YMin: 888383.0466019775
XMax: 1194303.934961481
YMax: 1129057.0466019814
Spatial Reference: 102717
(2262)
Pixel Size X: 2.0000000000000546
Pixel Size Y: 2.000000000000032
Band Count: 1
Pixel Type: U8
RasterFunction Infos: {"rasterFunctionInfos": [{
"name": "None",
"description": "",
"help": ""
}]}
Mensuration Capabilities: Basic
Has Histograms: true
Has Colormap: false
Has Multi Dimensions : false
Rendering Rule:
Min Scale: 0
Max Scale: 0
Copyright Text:
Service Data Type: esriImageServiceDataTypeGeneric
Min Values: 1
Max Values: 5
Mean Values: 2.005533043347731
Standard Deviation Values: 1.0683065119722481
Object ID Field:
Fields:
None
Default Mosaic Method: Center
Allowed Mosaic Methods:
SortField:
SortValue: null
Mosaic Operator: First
Default Compression Quality: 75
Default Resampling Method: Bilinear
Max Record Count: null
Max Image Height: 4100
Max Image Width: 15000
Max Download Image Count: null
Max Mosaic Image Count: null
Allow Raster Function: true
Allow Copy: true
Allow Analysis: true
Allow Compute TiePoints: false
Supports Statistics: false
Supports Advanced Queries: false
Use StandardizedQueries: true
Raster Type Infos:
Name: Raster Dataset
Description: Supports all ArcGIS Raster Datasets
Help:
Has Raster Attribute Table: true
Edit Fields Info: null
Ownership Based AccessControl For Rasters: null
Child Resources:
Info
Raster Attribute Table
Histograms
Statistics
Key Properties
Legend
Raster Function Infos
Supported Operations:
Export Image
Identify
Measure
Compute Histograms
Compute Statistics Histograms
Get Samples
Compute Class Statistics
Query Boundary
Compute Pixel Location
Compute Angles
Validate
Project