{
 "currentVersion": 10.91,
 "serviceDescription": "OGIS/LandCoverClassification",
 "name": "OGIS/LandCoverClassification",
 "description": "",
 "extent": {
  "xmin": 998801.9349614757,
  "ymin": 888383.0466019775,
  "xmax": 1194303.934961481,
  "ymax": 1129057.0466019814,
  "spatialReference": {
   "wkid": 102717,
   "latestWkid": 2262
  }
 },
 "initialExtent": {
  "xmin": 998801.9349614757,
  "ymin": 888383.0466019775,
  "xmax": 1194303.934961481,
  "ymax": 1129057.0466019814,
  "spatialReference": {
   "wkid": 102717,
   "latestWkid": 2262
  }
 },
 "fullExtent": {
  "xmin": 998801.9349614757,
  "ymin": 888383.0466019775,
  "xmax": 1194303.934961481,
  "ymax": 1129057.0466019814,
  "spatialReference": {
   "wkid": 102717,
   "latestWkid": 2262
  }
 },
 "hasMultidimensions": false,
 "pixelSizeX": 2.0000000000000546,
 "pixelSizeY": 2.000000000000032,
 "datasetFormat": "SDR",
 "uncompressedSize": 11763062087,
 "blockWidth": 128,
 "blockHeight": 128,
 "compressionType": "NONE",
 "bandNames": [
  "Band_1"
 ],
 "allowCopy": true,
 "allowAnalysis": true,
 "bandCount": 1,
 "pixelType": "U8",
 "minPixelSize": 0,
 "maxPixelSize": 0,
 "copyrightText": "",
 "serviceDataType": "esriImageServiceDataTypeGeneric",
 "serviceSourceType": "esriImageServiceSourceTypeDataset",
 "minValues": [
  1
 ],
 "maxValues": [
  5
 ],
 "meanValues": [
  2.005533043347731
 ],
 "stdvValues": [
  1.0683065119722481
 ],
 "objectIdField": "",
 "fields": [],
 "capabilities": "Mensuration,Image,Metadata",
 "defaultMosaicMethod": "Center",
 "allowedMosaicMethods": "",
 "sortField": "",
 "sortValue": null,
 "sortAscending": true,
 "mosaicOperator": "First",
 "defaultCompressionQuality": 75,
 "defaultResamplingMethod": "Bilinear",
 "maxImageHeight": 4100,
 "maxImageWidth": 15000,
 "allowRasterFunction": true,
 "rasterFunctionInfos": [
  {
   "name": "None",
   "description": "",
   "help": ""
  }
 ],
 "rasterTypeInfos": [
  {
   "name": "Raster Dataset",
   "description": "Supports all ArcGIS Raster Datasets",
   "help": ""
  }
 ],
 "mensurationCapabilities": "Basic",
 "hasHistograms": true,
 "hasColormap": false,
 "hasRasterAttributeTable": true,
 "minScale": 0,
 "maxScale": 0,
 "exportTilesAllowed": false,
 "supportsStatistics": false,
 "supportsAdvancedQueries": false,
 "editFieldsInfo": null,
 "ownershipBasedAccessControlForRasters": null,
 "allowComputeTiePoints": false,
 "useStandardizedQueries": true,
 "advancedQueryCapabilities": {
  "useStandardizedQueries": true,
  "supportsStatistics": false,
  "supportsOrderBy": false,
  "supportsDistinct": false,
  "supportsPagination": false
 },
 "spatialReference": {
  "wkid": 102717,
  "latestWkid": 2262
 }
}
